Workbook

Sheet Trendline
J1: 2019 | K1: 2020 | L1: 2021 | M1: 2022 | N1: 2023 | O1: 2024 | P1: 2025
J2: ='2019'!G16 -> 6.8036546 | K2: ='2020'!G16 -> 6.802567 | L2: ='2021'!G16 -> 7.1194028 | M2: ='2022'!G15 -> 7.3828329 | N2: ='2023'!G15 -> 7.6022723 | O2: ='2024'!G15 -> 8.0894434 | P2: ='2025'!G15 -> 13.854467

Sheet 2025
A1: KODE | B1: WILAYAH | C1: TOTAL Jumlah (Jiwa) | D1: LUAS DARATAN (km²) | E1: LUAS PERAIRAN (km²) | F1: LUAS TOTAL (km²) | G1: KEPADATAN PENDUDUK | J1: Luas Daratan | K1: Luas Perairan | L1: Luas Total
A2: 640301 | B2: Kelay | C2: 8580 | D2: 6522.1 | E2: 34.44 | F2: =SUM(D2:E2) -> 6556.54 | G2: =C2/D2 -> 1.3155272 | I2: Kelay | J2: 6522.1 | K2: 34.44 | L2: =SUM(J2:K2) -> 6556.54
A3: 640302 | B3: Talisayan | C3: 19039 | D3: 1100.94 | E3: 520.63 | F3: =SUM(D3:E3) -> 1621.57 | G3: =C3/D3 -> 17.293404 | I3: Talisayan | J3: 1100.94 | K3: 520.63 | L3: =SUM(J3:K3) -> 1621.57
A4: 640303 | B4: Sambaliung | C4: 49365 | D4: 2076.26 | E4: 87.11 | F4: =SUM(D4:E4) -> 2163.37 | G4: =C4/D4 -> 23.775924 | I4: Sambaliung | J4: 2076.26 | K4: 87.11 | L4: =SUM(J4:K4) -> 2163.37
A5: 640304 | B5: Segah | C5: 21367 | D5: 5213.19 | E5: 28.11 | F5: =SUM(D5:E5) -> 5241.3 | G5: =C5/D5 -> 4.0986421 | I5: Segah | J5: 5213.19 | K5: 28.11 | L5: =SUM(J5:K5) -> 5241.3
A6: 640305 | B6: Tanjung Redeb | C6: 79332 | D6: 22.75 | E6: 1.66 | F6: =SUM(D6:E6) -> 24.41 | G6: =C6/D6 -> 3487.1209 | I6: Tanjung Redeb | J6: 22.75 | K6: 1.66 | L6: =SUM(J6:K6) -> 24.41
A7: 640306 | B7: Gunung Tabur | C7: 34890 | D7: 1933.22 | E7: 30.1 | F7: =SUM(D7:E7) -> 1963.32 | G7: =C7/D7 -> 18.04761 | I7: Gunung Tabur | J7: 1933.22 | K7: 30.1 | L7: =SUM(J7:K7) -> 1963.32
A8: 640307 | B8: Pulau Derawan | C8: 15306 | D8: 917.64 | E8: 3506.35 | F8: =SUM(D8:E8) -> 4423.99 | G8: =C8/D8 -> 16.679744 | I8: Pulau Derawan | J8: 917.64 | K8: 3506.35 | L8: =SUM(J8:K8) -> 4423.99
A9: 640308 | B9: Biduk Biduk | C9: 8276 | D9: 925.37 | E9: 1504.44 | F9: =SUM(D9:E9) -> 2429.81 | G9: =C9/D9 -> 8.9434496 | I9: Biduk-Biduk | J9: 925.37 | K9: 1504.44 | L9: =SUM(J9:K9) -> 2429.81
A10: 640309 | B10: Teluk Bayur | C10: 37995 | D10: 309.55 | E10: 7.43 | F10: =SUM(D10:E10) -> 316.98 | G10: =C10/D10 -> 122.74269 | I10: Teluk Bayur | J10: 309.55 | K10: 7.43 | L10: =SUM(J10:K10) -> 316.98
A11: 640310 | B11: Tabalar | C11: 8639 | D11: 1331.96 | E11: 505.38 | F11: =SUM(D11:E11) -> 1837.34 | G11: =C11/D11 -> 6.4859305 | I11: Tabalar | J11: 1331.96 | K11: 505.38 | L11: =SUM(J11:K11) -> 1837.34
A12: 640311 | B12: Maratua | C12: 4063 | D12: 30.88 | E12: 5585.55 | F12: =SUM(D12:E12) -> 5616.43 | G12: =C12/D12 -> 131.57383 | I12: Maratua | J12: 30.88 | K12: 5585.55 | L12: =SUM(J12:K12) -> 5616.43
A13: 640312 | B13: Batu Putih | C13: 10658 | D13: 894.56 | E13: 2680.75 | F13: =SUM(D13:E13) -> 3575.31 | G13: =C13/D13 -> 11.914237 | I13: Batu Putih | J13: 894.56 | K13: 2680.75 | L13: =SUM(J13:K13) -> 3575.31
A14: 640313 | B14: Biatan | C14: 10510 | D14: 954.12 | E14: 237.91 | F14: =SUM(D14:E14) -> 1192.03 | G14: =C14/D14 -> 11.015386 | I14: Biatan | J14: 954.12 | K14: 237.91 | L14: =SUM(J14:K14) -> 1192.03
A15: 6403 | B15: KAB. BERAU | C15: =SUM(C2:C14) -> 308020 | D15: =SUM(D2:D14) -> 22232.54 | E15: =SUM(E2:E14) -> 14729.86 | F15: =SUM(F2:F14) -> 36962.4 | G15: =C15/D15 -> 13.854467 | I15: Berau | J15: 22232.54 | K15: 14729.86 | L15: =SUM(L2:L14) -> 36962.4
A16: Sumber: Luas Wilayah, Perda Kab. Berau Nomor 09 Tahun 2017 tentang Rencana Tata Ruang Wilayah Kabupaten Berau Tahun 2016-2036

Sheet 2024
A1: KODE | B1: WILAYAH | C1: TOTAL Jumlah (Jiwa) | D1: % | E1: LUAS WILAYAH (km²) | F1: % | G1: KEPADATAN PENDUDUK
A2: 640301 | B2: Kelay | C2: 8122 | D2: 2.2740095 | E2: 6556.54 | F2: 17.975744 | G2: =C2/E2 -> 1.2387631
A3: 640302 | B3: Talisayan | C3: 18316 | D3: 5.8262881 | E3: 1621.57 | F3: 5.2685403 | G3: =C3/E3 -> 11.295226
A4: 640303 | B4: Sambaliung | C4: 47473 | D4: 15.323723 | E4: 2163.37 | F4: 7.0439621 | G4: =C4/E4 -> 21.944004
A5: 640304 | B5: Segah | C5: 19866 | D5: 5.2758744 | E5: 5241.29 | F5: 15.138702 | G5: =C5/E5 -> 3.7902883
A6: 640305 | B6: Tanjung Redeb | C6: 78230 | D6: 29.741288 | E6: 24.41 | F6: 0.069739298 | G6: =C6/E6 -> 3204.8341
A7: 640306 | B7: Gunung Tabur | C7: 33512 | D7: 10.351481 | E7: 1963.32 | F7: 5.8223523 | G7: =C7/E7 -> 17.069046
A8: 640307 | B8: Pulau Derawan | C8: 15197 | D8: 4.6599968 | E8: 4423.99 | F8: 11.307729 | G8: =C8/E8 -> 3.4351343
A9: 640308 | B9: Biduk Biduk | C9: 8140 | D9: 2.7477615 | E9: 2429.97 | F9: 8.7994585 | G9: =C9/E9 -> 3.3498356
A10: 640309 | B10: Teluk Bayur | C10: 37232 | D10: 12.803363 | E10: 316.98 | F10: 0.51484011 | G10: =C10/E10 -> 117.45851
A11: 640310 | B11: Tabalar | C11: 8470 | D11: 2.9463067 | E11: 1837.34 | F11: 6.9548834 | G11: =C11/E11 -> 4.6099252
A12: 640311 | B12: Maratua | C12: 4035 | D12: 1.4854278 | E12: 5616.26 | F12: 12.069001 | G12: =C12/E12 -> 0.71844964
A13: 640312 | B13: Batu Putih | C13: 10310 | D13: 3.3313378 | E13: 3575.3 | F13: 4.8389696 | G13: =C13/E13 -> 2.8836741
A14: 640313 | B14: Biatan | C14: 10102 | D14: 3.233142 | E14: 1192.03 | F14: 4.1960788 | G14: =C14/E14 -> 8.4746189
A15: 6403 | B15: KAB. BERAU | C15: =SUM(C2:C14) -> 299005 | D15: =SUM(D2:D14) -> 100 | E15: =SUM(E2:E14) -> 36962.37 | F15: =SUM(F2:F14) -> 100 | G15: =C15/E15 -> 8.0894434

Sheet 2023
A1: KODE | B1: KECAMATAN | C1: TOTAL Jumlah (Jiwa) | D1: % | E1: LUAS WILAYAH (km²) | F1: % | G1: KEPADATAN PENDUDUK
A2: 640301 | B2: Kelay | C2: 7255 | D2: 2.2740095 | E2: 6556.54 | F2: 17.975744 | G2: =C2/E2 -> 1.1065287
A3: 640302 | B3: Talisayan | C3: 17020 | D3: 5.8262881 | E3: 1621.57 | F3: 5.2685403 | G3: =C3/E3 -> 10.496001
A4: 640303 | B4: Sambaliung | C4: 44532 | D4: 15.323723 | E4: 2163.37 | F4: 7.0439621 | G4: =C4/E4 -> 20.584551
A5: 640304 | B5: Segah | C5: 17942 | D5: 5.2758744 | E5: 5241.29 | F5: 15.138702 | G5: =C5/E5 -> 3.4232031
A6: 640305 | B6: Tanjung Redeb | C6: 74976 | D6: 29.741288 | E6: 24.41 | F6: 0.069739298 | G6: =C6/E6 -> 3071.5281
A7: 640306 | B7: Gunung Tabur | C7: 31394 | D7: 10.351481 | E7: 1963.32 | F7: 5.8223523 | G7: =C7/E7 -> 15.990261
A8: 640307 | B8: Pulau Derawan | C8: 14399 | D8: 4.6599968 | E8: 4423.99 | F8: 11.307729 | G8: =C8/E8 -> 3.2547542
A9: 640308 | B9: Biduk Biduk | C9: 7733 | D9: 2.7477615 | E9: 2429.97 | F9: 8.7994585 | G9: =C9/E9 -> 3.1823438
A10: 640309 | B10: Teluk Bayur | C10: 34960 | D10: 12.803363 | E10: 316.98 | F10: 0.51484011 | G10: =C10/E10 -> 110.29087
A11: 640310 | B11: Tabalar | C11: 7917 | D11: 2.9463067 | E11: 1837.34 | F11: 6.9548834 | G11: =C11/E11 -> 4.3089466
A12: 640311 | B12: Maratua | C12: 3881 | D12: 1.4854278 | E12: 5616.26 | F12: 12.069001 | G12: =C12/E12 -> 0.69102926
A13: 640312 | B13: Batu Putih | C13: 9519 | D13: 3.3313378 | E13: 3575.3 | F13: 4.8389696 | G13: =C13/E13 -> 2.6624339
A14: 640313 | B14: Biatan | C14: 9470 | D14: 3.233142 | E14: 1192.03 | F14: 4.1960788 | G14: =C14/E14 -> 7.9444309
A15: 6403 | B15: KAB. BERAU | C15: =SUM(C2:C14) -> 280998 | D15: =SUM(D2:D14) -> 100 | E15: =SUM(E2:E14) -> 36962.37 | F15: =SUM(F2:F14) -> 100 | G15: =C15/E15 -> 7.6022723

Sheet 2022
A1: KODE | B1: KECAMATAN | C1: TOTAL Jumlah (Jiwa) | D1: % | E1: LUAS WILAYAH (km²) | F1: % | G1: KEPADATAN PENDUDUK
A2: 640301 | B2: Kelay | C2: 6807 | D2: 2.2740095 | E2: 6556.54 | F2: 17.975744 | G2: =C2/E2 -> 1.0382
A3: 640302 | B3: Talisayan | C3: 16637 | D3: 5.8262881 | E3: 1621.57 | F3: 5.2685403 | G3: =C3/E3 -> 10.25981
A4: 640303 | B4: Sambaliung | C4: 43161 | D4: 15.323723 | E4: 2163.37 | F4: 7.0439621 | G4: =C4/E4 -> 19.950817
A5: 640304 | B5: Segah | C5: 16647 | D5: 5.2758744 | E5: 5241.29 | F5: 15.138702 | G5: =C5/E5 -> 3.1761265
A6: 640305 | B6: Tanjung Redeb | C6: 74137 | D6: 29.741288 | E6: 24.41 | F6: 0.069739298 | G6: =C6/E6 -> 3037.1569
A7: 640306 | B7: Gunung Tabur | C7: 30040 | D7: 10.351481 | E7: 1963.32 | F7: 5.8223523 | G7: =C7/E7 -> 15.300613
A8: 640307 | B8: Pulau Derawan | C8: 13924 | D8: 4.6599968 | E8: 4423.99 | F8: 11.307729 | G8: =C8/E8 -> 3.1473851
A9: 640308 | B9: Biduk Biduk | C9: 7594 | D9: 2.7477615 | E9: 2429.97 | F9: 8.7994585 | G9: =C9/E9 -> 3.1251415
A10: 640309 | B10: Teluk Bayur | C10: 33835 | D10: 12.803363 | E10: 316.98 | F10: 0.51484011 | G10: =C10/E10 -> 106.74175
A11: 640310 | B11: Tabalar | C11: 7756 | D11: 2.9463067 | E11: 1837.34 | F11: 6.9548834 | G11: =C11/E11 -> 4.22132
A12: 640311 | B12: Maratua | C12: 3983 | D12: 1.4854278 | E12: 5616.26 | F12: 12.069001 | G12: =C12/E12 -> 0.70919081
A13: 640312 | B13: Batu Putih | C13: 9209 | D13: 3.3313378 | E13: 3575.3 | F13: 4.8389696 | G13: =C13/E13 -> 2.5757279
A14: 640313 | B14: Biatan | C14: 9157 | D14: 3.233142 | E14: 1192.03 | F14: 4.1960788 | G14: =C14/E14 -> 7.6818536
A15: 6403 | B15: KAB. BERAU | C15: =SUM(C2:C14) -> 272887 | D15: =SUM(D2:D14) -> 100 | E15: =SUM(E2:E14) -> 36962.37 | F15: =SUM(F2:F14) -> 100 | G15: =C15/E15 -> 7.3828329

Sheet 2021
A1: NO | B1: KECAMATAN | C1: JUMLAH DUK | E1: LUAS WILAYAH | G1: KEPADATAN PENDUDUK
C2: n | D2: % | E2: km2 | F2: %
A3: 1 | B3: Kelay | C3: 6352 | D3: 2.2740095 | E3: 6556.54 | F3: 17.975744 | G3: =C3/E3 -> 0.96880367
A4: 2 | B4: Talisayan | C4: 15980 | D4: 5.8262881 | E4: 1621.57 | F4: 5.2685403 | G4: =C4/E4 -> 9.854647
A5: 3 | B5: Sambaliung | C5: 41226 | D5: 15.323723 | E5: 2163.37 | F5: 7.0439621 | G5: =C5/E5 -> 19.05638
A6: 4 | B6: Segah | C6: 15434 | D6: 5.2758744 | E6: 5241.29 | F6: 15.138702 | G6: =C6/E6 -> 2.9446949
A7: 5 | B7: Tanjung Redeb | C7: 73652 | D7: 29.741288 | E7: 24.41 | F7: 0.069739298 | G7: =C7/E7 -> 3017.288
A8: 6 | B8: Gunung Tabur | C8: 28270 | D8: 10.351481 | E8: 1963.32 | F8: 5.8223523 | G8: =C8/E8 -> 14.399079
A9: 7 | B9: Pulau Derawan | C9: 13172 | D9: 4.6599968 | E9: 4423.99 | F9: 11.307729 | G9: =C9/E9 -> 2.9774028
A10: 8 | B10: Biduk Biduk | C10: 7455 | D10: 2.7477615 | E10: 2429.97 | F10: 8.7994585 | G10: =C10/E10 -> 3.0679391
A11: 9 | B11: Teluk Bayur | C11: 32746 | D11: 12.803363 | E11: 316.98 | F11: 0.51484011 | G11: =C11/E11 -> 103.3062
A12: 10 | B12: Tabalar | C12: 7451 | D12: 2.9463067 | E12: 1837.34 | F12: 6.9548834 | G12: =C12/E12 -> 4.0553191
A13: 11 | B13: Maratua | C13: 3834 | D13: 1.4854278 | E13: 5616.26 | F13: 12.069001 | G13: =C13/E13 -> 0.6826607
A14: 12 | B14: Batu Putih | C14: 8831 | D14: 3.3313378 | E14: 3575.3 | F14: 4.8389696 | G14: =C14/E14 -> 2.4700025
A15: 13 | B15: Biatan | C15: 8747 | D15: 3.233142 | E15: 1192.03 | F15: 4.1960788 | G15: =C15/E15 -> 7.3379026
A16: KAB. BERAU | C16: =SUM(C3:C15) -> 263150 | D16: =SUM(D3:D15) -> 100 | E16: =SUM(E3:E15) -> 36962.37 | F16: =SUM(F3:F15) -> 100 | G16: =C16/E16 -> 7.1194028

Sheet 2020
A1: NO | B1: KECAMATAN | C1: JUMLAH DUK | E1: LUAS WILAYAH | G1: KEPADATAN PENDUDUK
C2: n | D2: % | E2: km2 | F2: %
A3: 1 | B3: Kelay | C3: 5881 | D3: 2.2740095 | E3: 6556.54 | F3: 17.975744 | G3: =C3/E3 -> 0.896967
A4: 2 | B4: Talisayan | C4: 14823 | D4: 5.8262881 | E4: 1621.57 | F4: 5.2685403 | G4: =C4/E4 -> 9.141141
A5: 3 | B5: Sambaliung | C5: 38982 | D5: 15.323723 | E5: 2163.37 | F5: 7.0439621 | G5: =C5/E5 -> 18.019109
A6: 4 | B6: Segah | C6: 13969 | D6: 5.2758744 | E6: 5241.29 | F6: 15.138702 | G6: =C6/E6 -> 2.6651836
A7: 5 | B7: Tanjung Redeb | C7: 72869 | D7: 29.741288 | E7: 24.41 | F7: 0.069739298 | G7: =C7/E7 -> 2985.211
A8: 6 | B8: Gunung Tabur | C8: 26357 | D8: 10.351481 | E8: 1963.32 | F8: 5.8223523 | G8: =C8/E8 -> 13.424709
A9: 7 | B9: Pulau Derawan | C9: 12246 | D9: 4.6599968 | E9: 4423.99 | F9: 11.307729 | G9: =C9/E9 -> 2.7680894
A10: 8 | B10: Biduk Biduk | C10: 7044 | D10: 2.7477615 | E10: 2429.97 | F10: 8.7994585 | G10: =C10/E10 -> 2.8988012
A11: 9 | B11: Teluk Bayur | C11: 31526 | D11: 12.803363 | E11: 316.98 | F11: 0.51484011 | G11: =C11/E11 -> 99.457379
A12: 10 | B12: Tabalar | C12: 7329 | D12: 2.9463067 | E12: 1837.34 | F12: 6.9548834 | G12: =C12/E12 -> 3.9889188
A13: 11 | B13: Maratua | C13: 3776 | D13: 1.4854278 | E13: 5616.26 | F13: 12.069001 | G13: =C13/E13 -> 0.67233355
A14: 12 | B14: Batu Putih | C14: 8471 | D14: 3.3313378 | E14: 3575.3 | F14: 4.8389696 | G14: =C14/E14 -> 2.3693117
A15: 13 | B15: Biatan | C15: 8166 | D15: 3.233142 | E15: 1192.03 | F15: 4.1960788 | G15: =C15/E15 -> 6.8504987
A16: KAB. BERAU | C16: =SUM(C3:C15) -> 251439 | D16: =SUM(D3:D15) -> 100 | E16: =SUM(E3:E15) -> 36962.37 | F16: =SUM(F3:F15) -> 100 | G16: =C16/E16 -> 6.802567

Sheet 2019
A1: NO | B1: KECAMATAN | C1: JUMLAH DUK | E1: LUAS WILAYAH | G1: KEPADATAN PENDUDUK
C2: Σ | D2: % | E2: Σ | F2: %
A3: 1 | B3: Kelay | C3: 5280 | D3: 2.2740095 | E3: 6134.6 | F3: 17.975744 | G3: =C3/E3 -> 0.86069181
A4: 2 | B4: Talisayan | C4: 13528 | D4: 5.8262881 | E4: 1798 | F4: 5.2685403 | G4: =C4/E4 -> 7.5239155
A5: 3 | B5: Sambaliung | C5: 35580 | D5: 15.323723 | E5: 2403.9 | F5: 7.0439621 | G5: =C5/E5 -> 14.800948
A6: 4 | B6: Segah | C6: 12250 | D6: 5.2758744 | E6: 5166.4 | F6: 15.138702 | G6: =C6/E6 -> 2.3710901
A7: 5 | B7: Tanjung Redeb | C7: 69056 | D7: 29.741288 | E7: 23.8 | F7: 0.069739298 | G7: =C7/E7 -> 2901.5126
A8: 6 | B8: Gunung Tabur | C8: 24035 | D8: 10.351481 | E8: 1987 | F8: 5.8223523 | G8: =C8/E8 -> 12.096125
A9: 7 | B9: Pulau Derawan | C9: 10820 | D9: 4.6599968 | E9: 3859 | F9: 11.307729 | G9: =C9/E9 -> 2.8038352
A10: 8 | B10: Biduk-biduk | C10: 6380 | D10: 2.7477615 | E10: 3003 | F10: 8.7994585 | G10: =C10/E10 -> 2.1245421
A11: 9 | B11: Teluk Bayur | C11: 29728 | D11: 12.803363 | E11: 175.7 | F11: 0.51484011 | G11: =C11/E11 -> 169.1975
A12: 10 | B12: Tabalar | C12: 6841 | D12: 2.9463067 | E12: 2373.5 | F12: 6.9548834 | G12: =C12/E12 -> 2.8822414
A13: 11 | B13: Maratua | C13: 3449 | D13: 1.4854278 | E13: 4118.8 | F13: 12.069001 | G13: =C13/E13 -> 0.83737982
A14: 12 | B14: Batu Putih | C14: 7735 | D14: 3.3313378 | E14: 1651.4 | F14: 4.8389696 | G14: =C14/E14 -> 4.6839046
A15: 13 | B15: Biatan | C15: 7507 | D15: 3.233142 | E15: 1432 | F15: 4.1960788 | G15: =C15/E15 -> 5.2423184
A16: KAB. BERAU | C16: =SUM(C3:C15) -> 232189 | D16: =SUM(D3:D15) -> 100 | E16: =SUM(E3:E15) -> 34127.1 | F16: =SUM(F3:F15) -> 100 | G16: =C16/E16 -> 6.8036546

Sheet Luas Wilayah
B1: Luas Daratan | C1: Luas Perairan | D1: Luas Total
A3: Kelay | B3: 6522.1 | C3: 34.44 | D3: =SUM(B3:C3) -> 6556.54
A4: Talisayan | B4: 1100.94 | C4: 520.63 | D4: =SUM(B4:C4) -> 1621.57
A5: Tabalar | B5: 1331.96 | C5: 505.38 | D5: =SUM(B5:C5) -> 1837.34
A6: Biduk-Biduk | B6: 925.37 | C6: 1504.44 | D6: =SUM(B6:C6) -> 2429.81
A7: Pulau Derawan | B7: 917.64 | C7: 3506.35 | D7: =SUM(B7:C7) -> 4423.99
A8: Maratua | B8: 30.88 | C8: 5585.55 | D8: =SUM(B8:C8) -> 5616.43
A9: Sambaliung | B9: 2076.26 | C9: 87.11 | D9: =SUM(B9:C9) -> 2163.37
A10: Tanjung Redeb | B10: 22.75 | C10: 1.66 | D10: =SUM(B10:C10) -> 24.41
A11: Gunung Tabur | B11: 1933.22 | C11: 30.1 | D11: =SUM(B11:C11) -> 1963.32
A12: Segah | B12: 5213.19 | C12: 28.11 | D12: =SUM(B12:C12) -> 5241.3
A13: Teluk Bayur | B13: 309.55 | C13: 7.43 | D13: =SUM(B13:C13) -> 316.98
A14: Batu Putih | B14: 894.56 | C14: 2680.75 | D14: =SUM(B14:C14) -> 3575.31
A15: Biatan | B15: 954.12 | C15: 237.91 | D15: =SUM(B15:C15) -> 1192.03
A16: Berau | B16: =SUM(B3:B15) -> 22232.54 | C16: =SUM(C3:C15) -> 14729.86 | D16: =SUM(D3:D15) -> 36962.4
A18: Sumber:
A19: Peraturan Daerah Kabupaten Berau Nomor 09 Tahun 2017
A20: tentang
A21: Rencana Tata Ruang Wilayah Kabupaten Berau Tahun 2016-2036
